BEGIN:VCALENDAR
VERSION:2.0
PRODID:-//wp-events-plugin.com//7.2.3.1//EN
TZID:Europe/Berlin
X-WR-TIMEZONE:Europe/Berlin
BEGIN:VEVENT
UID:11867@ralfstanzgalerie.de
DTSTART;TZID=Europe/Berlin:20240502T161500
DTEND;TZID=Europe/Berlin:20240502T170000
DTSTAMP:20240107T133212Z
URL:https://ralfstanzgalerie.de/kursbuchung/do-1615uhr-kita-supertaenzer-a
 b-5jahre-2024-05-02/
SUMMARY:Do. 16:15Uhr Kita Supertänzer ab 5Jahre
DESCRIPTION:mit Nadine
ATTACH;FMTTYPE=image/jpeg:https://ralfstanzgalerie.de/wp-content/uploads/2
 024/01/Kinder07-scaled.jpg
CATEGORIES:Kinder-Tanzkurse
LOCATION:ADTV Tanzgalerie Worms  Saal2 OG\, Obermarkt 3-5\, Worms\, 67547\,
  Deutschland
X-APPLE-STRUCTURED-LOCATION;VALUE=URI;X-ADDRESS=Obermarkt 3-5\, Worms\, 675
 47\, Deutschland;X-APPLE-RADIUS=100;X-TITLE=ADTV Tanzgalerie Worms  Saal2 
 OG:geo:0,0
END:VEVENT
BEGIN:VTIMEZONE
TZID:Europe/Berlin
X-LIC-LOCATION:Europe/Berlin
BEGIN:DAYLIGHT
DTSTART:20240331T030000
TZOFFSETFROM:+0100
TZOFFSETTO:+0200
TZNAME:CEST
END:DAYLIGHT
END:VTIMEZONE
END:VCALENDAR