BEGIN:VCALENDAR
VERSION:2.0
PRODID:-//wp-events-plugin.com//7.2.3.1//EN
TZID:Europe/Berlin
X-WR-TIMEZONE:Europe/Berlin
BEGIN:VEVENT
UID:13942@ralfstanzgalerie.de
DTSTART;TZID=Europe/Berlin:20260430T213000
DTEND;TZID=Europe/Berlin:20260501T010000
DTSTAMP:20260303T102525Z
URL:https://ralfstanzgalerie.de/kursbuchung/tanz-in-den-mai-2025/
SUMMARY:Tanz in den Mai 2026
DESCRIPTION:Heute möchten wir direkt nach dem Unterricht mit Euch tänzeri
 sch den Mai begrüßen !\n\nUnkostenbeitrag 4.-€ pro Person incl. 1 Glas
  Maibowle
ATTACH;FMTTYPE=image/jpeg:https://ralfstanzgalerie.de/wp-content/uploads/2
 019/04/20190413_201653.jpg
CATEGORIES:Sonderveranstaltung,Tanzveranstaltung
LOCATION:ADTV Tanzgalerie Worms  Saal1 UG\, Obermarkt 3-5\, Worms\, Rheinla
 nd-Pfalz\, 67547\, Deutschland
X-APPLE-STRUCTURED-LOCATION;VALUE=URI;X-ADDRESS=Obermarkt 3-5\, Worms\, Rhe
 inland-Pfalz\, 67547\, Deutschland;X-APPLE-RADIUS=100;X-TITLE=ADTV Tanzgal
 erie Worms  Saal1 UG:geo:0,0
END:VEVENT
BEGIN:VTIMEZONE
TZID:Europe/Berlin
X-LIC-LOCATION:Europe/Berlin
BEGIN:DAYLIGHT
DTSTART:20260329T030000
TZOFFSETFROM:+0100
TZOFFSETTO:+0200
TZNAME:CEST
END:DAYLIGHT
END:VTIMEZONE
END:VCALENDAR